BEGIN:VCALENDAR
VERSION:2.0
PRODID:-//BREATHE WITH ZAKIA - ECPv6.15.20//NONSGML v1.0//EN
CALSCALE:GREGORIAN
METHOD:PUBLISH
X-WR-CALNAME:BREATHE WITH ZAKIA
X-ORIGINAL-URL:https://breathewithzakia.com
X-WR-CALDESC:Events for BREATHE WITH ZAKIA
REFRESH-INTERVAL;VALUE=DURATION:PT1H
X-Robots-Tag:noindex
X-PUBLISHED-TTL:PT1H
BEGIN:VTIMEZONE
TZID:Europe/Madrid
BEGIN:DAYLIGHT
TZOFFSETFROM:+0100
TZOFFSETTO:+0200
TZNAME:CEST
DTSTART:20250330T010000
END:DAYLIGHT
BEGIN:STANDARD
TZOFFSETFROM:+0200
TZOFFSETTO:+0100
TZNAME:CET
DTSTART:20251026T010000
END:STANDARD
BEGIN:DAYLIGHT
TZOFFSETFROM:+0100
TZOFFSETTO:+0200
TZNAME:CEST
DTSTART:20260329T010000
END:DAYLIGHT
BEGIN:STANDARD
TZOFFSETFROM:+0200
TZOFFSETTO:+0100
TZNAME:CET
DTSTART:20261025T010000
END:STANDARD
BEGIN:DAYLIGHT
TZOFFSETFROM:+0100
TZOFFSETTO:+0200
TZNAME:CEST
DTSTART:20270328T010000
END:DAYLIGHT
BEGIN:STANDARD
TZOFFSETFROM:+0200
TZOFFSETTO:+0100
TZNAME:CET
DTSTART:20271031T010000
END:STANDARD
END:VTIMEZONE
BEGIN:VEVENT
DTSTART;TZID=Europe/Madrid:20260408T200000
DTEND;TZID=Europe/Madrid:20260429T210000
DTSTAMP:20260424T194403
CREATED:20260323T100723Z
LAST-MODIFIED:20260323T101310Z
UID:248591-1775678400-1777496400@breathewithzakia.com
SUMMARY:🌻April ONLINE Spring Breath - Bloom From Within
DESCRIPTION:🌻April Spring Breath: Bloom From Within \nJoin me for a gentle 4-week evening breathwork series designed to calm and soothe your nervous system\, helping you soften\, release\, and gradually bloom from within. \n🌻Wednesdays: 8th\, 15th\, 22nd & 29th April\n🕗 20:15 – 20:45 (30 minutes – Spanish Time)\n💶 33€ for all 4 sessions \n🌻 Restorative breath practices from the comfort of your home \n🎧 Recordings available if you can’t attend live \n🌻No experience needed. Just come as you are and allow space to unwind\, reset\, and reconnect. \n🌟To book: contact Zakia\, scan the QR code\, or visit\nwww.breathewithzakia.com \nLove and Light\, Zakia
URL:https://breathewithzakia.com/workshop/%f0%9f%8c%bbapril-online-bspring-breath-bloom-from-within/
LOCATION:Online  – Zoom\, Spain
ATTACH;FMTTYPE=image/jpeg:https://breathewithzakia.com/wp-content/uploads/2026/03/WhatsApp-Image-2026-03-22-at-19.55.54-e1774260429137.jpeg
ORGANIZER;CN="Breathe with Zakia":MAILTO:zakia@breathewithzakia.com
END:VEVENT
END:VCALENDAR